BEGIN:VCALENDAR
VERSION:2.0
METHOD:PUBLISH
BEGIN:VEVENT
DTSTART:20260501T010000Z
DTEND:20260501T020000Z
LOCATION:Fiske Planetarium
UID:20260425T141658Z@mysite.com
DTSTAMP:20260425T141658Z
SUMMARY:Cosmic Mashups: Gravity, Galaxies, and Supermassive Black Holes
DESCRIPTION:For details, visit https://www.colorado.edu/Selection.aspx?sch=505
PRIORITY:5
CLASS:PUBLIC
END:VEVENT
END:VCALENDAR