BEGIN:VCALENDAR
VERSION:2.0
METHOD:PUBLISH
BEGIN:VEVENT
DTSTART:20260425T150000Z
DTEND:20260425T163000Z
LOCATION:Fiske Planetarium
UID:20260425T141659Z@mysite.com
DTSTAMP:20260425T141659Z
SUMMARY:Dome Fest West - Family Adventures: Discovery for All Ages
DESCRIPTION:For details, visit https://www.colorado.edu/Selection.aspx?sch=527
PRIORITY:5
CLASS:PUBLIC
END:VEVENT
END:VCALENDAR