BEGIN:VCALENDAR
VERSION:2.0
METHOD:PUBLISH
BEGIN:VEVENT
DTSTART:20260425T200000Z
DTEND:20260425T220000Z
LOCATION:Fiske Planetarium
UID:20260425T141835Z@mysite.com
DTSTAMP:20260425T141835Z
SUMMARY:Dome Fest West - Life, AI & Tomorrow's Horizon
DESCRIPTION:For details, visit https://www.colorado.edu/Selection.aspx?sch=529
PRIORITY:5
CLASS:PUBLIC
END:VEVENT
END:VCALENDAR