BEGIN:VCALENDAR
VERSION:2.0
METHOD:PUBLISH
BEGIN:VEVENT
DTSTART:20260501T023000Z
DTEND:20260501T033000Z
LOCATION:Fiske Planetarium
UID:20260425T141539Z@mysite.com
DTSTAMP:20260425T141539Z
SUMMARY:Laser Liquid Sky Classic Rock: Dome of Legends
DESCRIPTION:For details, visit https://www.colorado.edu/Selection.aspx?sch=526
PRIORITY:5
CLASS:PUBLIC
END:VEVENT
END:VCALENDAR