BEGIN:VCALENDAR
VERSION:2.0
METHOD:PUBLISH
BEGIN:VEVENT
DTSTART:20260425T170000Z
DTEND:20260425T183000Z
LOCATION:Fiske Planetarium
UID:20260425T141540Z@mysite.com
DTSTAMP:20260425T141540Z
SUMMARY:Dome Fest West - Science Spectacular: Natural Wonders
DESCRIPTION:For details, visit https://www.colorado.edu/Selection.aspx?sch=528
PRIORITY:5
CLASS:PUBLIC
END:VEVENT
END:VCALENDAR