BEGIN:VCALENDAR
VERSION:2.0
METHOD:PUBLISH
BEGIN:VEVENT
DTSTART:20260426T150000Z
DTEND:20260426T163000Z
LOCATION:Fiske Planetarium
UID:20260425T141552Z@mysite.com
DTSTAMP:20260425T141552Z
SUMMARY:Dome Fest West - Inner Cosmos: Transformation & Consciousness
DESCRIPTION:For details, visit https://www.colorado.edu/Selection.aspx?sch=532
PRIORITY:5
CLASS:PUBLIC
END:VEVENT
END:VCALENDAR