BEGIN:VCALENDAR
VERSION:2.0
METHOD:PUBLISH
BEGIN:VEVENT
DTSTART:20260426T170000Z
DTEND:20260426T183000Z
LOCATION:Fiske Planetarium
UID:20260425T141540Z@mysite.com
DTSTAMP:20260425T141540Z
SUMMARY:Dome Fest West - Earth's Evolution: Past, Present & Future
DESCRIPTION:For details, visit https://www.colorado.edu/Selection.aspx?sch=533
PRIORITY:5
CLASS:PUBLIC
END:VEVENT
END:VCALENDAR